BEGIN:VCALENDAR
VERSION:2.0
PRODID:-//ChamberMaster//Event Calendar 2.0//EN
METHOD:PUBLISH
X-PUBLISHED-TTL:P3D
REFRESH-INTERVAL:P3D
CALSCALE:GREGORIAN
BEGIN:VEVENT
DTSTART:20230829T160000Z
DTEND:20230829T170000Z
X-MICROSOFT-CDO-ALLDAYEVENT:FALSE
SUMMARY:Conway Kiwanis Club
DESCRIPTION:Conway Kiwanis Club Meeting\n\n1009 17th Ave\, Conway\, SC\, United States\, 29526\n\n\n\nThe Club meets every Tuesday at 12 pm at the Mary Thompson Center on the backside of the Collins Park.\n\n\n\nFor More Info: \n\nhttps://link.edgepilot.com/s/12dfe437/nUZ92s6XcUuHFn0pYkHWGg?u=https://www.facebook.com/ConwayKiwanisClub/
X-ALT-DESC;FMTTYPE=text/html:<span style="font-size:18px\;"><span style="font-size:22px\;">Conway Kiwanis Club Meeting</span><br />\n1009 17th Ave\, Conway\, SC\, United States\, 29526<br />\n<br />\nThe Club meets every Tuesday at 12 pm at the Mary Thompson Center on the backside of the Collins Park.</span><br />\n<br />\nFor More Info:&nbsp\;<br />\n<a href="https://link.edgepilot.com/s/12dfe437/nUZ92s6XcUuHFn0pYkHWGg?u=https://www.facebook.com/ConwayKiwanisClub/">https://link.edgepilot.com/s/12dfe437/nUZ92s6XcUuHFn0pYkHWGg?u=https://www.facebook.com/ConwayKiwanisClub/</a><br />\n&nbsp\;
LOCATION:Mary Thompson Center on the backside of the Collins Park
UID:e.3251.1585
SEQUENCE:3
DTSTAMP:20260424T140017Z
URL:https://business.conwayscchamber.com/events/details/conway-kiwanis-club-08-29-2023-1585
END:VEVENT

END:VCALENDAR
