BEGIN:VCALENDAR
VERSION:2.0
PRODID:-//ChamberMaster//Event Calendar 2.0//EN
METHOD:PUBLISH
X-PUBLISHED-TTL:P3D
REFRESH-INTERVAL:P3D
CALSCALE:GREGORIAN
BEGIN:VEVENT
DTSTART:20250628T170000Z
DTEND:20250628T170000Z
X-MICROSOFT-CDO-ALLDAYEVENT:FALSE
SUMMARY:“Conway City Hall – 200 Years of History”
DESCRIPTION:Join Ben Burroughs\, the Director of the Horry County Archives Center at Coastal Carolina University\, on Saturday\, June 28th\, as he discusses the history of Conway's City Hall. This lecture will feature the building's origins and evolution over the past 200 years\, along with some interesting anecdotes associated with the building. Ben is the director of the Horry County Archives Center\, established at Coastal Carolina University by the Horry County Higher Education Commission in 2006. The center focuses on researching the history of Horry County and surrounding counties\, including the history of Coastal Carolina University. The center works with local history-minded groups to find significant historical material\, preserve it and make it accessible to the public via digitization. The program will begin at 1:00 pm in the McCown Auditorium located at 805 Main Street\, Conway S.C. This event is free and open to the public. For more information\, call 843-915-5320 or email hcgmuseum@horrycounty.org. To view a full list of programs\, visit our website at www.horrycountymuseum.org.
X-ALT-DESC;FMTTYPE=text/html:Join Ben Burroughs\, the Director of the Horry County Archives Center at Coastal Carolina University\, on Saturday\, June 28th\, as he discusses the history of Conway&rsquo\;s City Hall. This lecture will feature the building&rsquo\;s origins and evolution over the past 200 years\, along with some interesting anecdotes associated with the building. Ben is the director of the Horry County Archives Center\, established at Coastal Carolina University by the Horry County Higher Education Commission in 2006. The center focuses on researching the history of Horry County and surrounding counties\, including the history of Coastal Carolina University. The center works with local history-minded groups to find significant historical material\, preserve it and make it accessible to the public via digitization. The program will begin at 1:00 pm in the McCown Auditorium located at 805 Main Street\, Conway S.C. This event is free and open to the public. For more information\, call 843-915-5320 or email hcgmuseum@horrycounty.org. To view a full list of programs\, visit our website at www.horrycountymuseum.org.
LOCATION:The Horry County Museum
UID:e.3251.3398
SEQUENCE:3
DTSTAMP:20260423T045032Z
URL:https://business.conwayscchamber.com/events/details/conway-city-hall-200-years-of-history-3398
END:VEVENT

END:VCALENDAR
