BEGIN:VCALENDAR
VERSION:2.0
PRODID:-//ChamberMaster//Event Calendar 2.0//EN
METHOD:PUBLISH
X-PUBLISHED-TTL:P3D
REFRESH-INTERVAL:P3D
CALSCALE:GREGORIAN
BEGIN:VEVENT
DTSTART:20260317T170000Z
DTEND:20260317T180000Z
X-MICROSOFT-CDO-ALLDAYEVENT:FALSE
SUMMARY:COASTAL980 Ribbon Cutting
DESCRIPTION:Join us Tuesday\, March 17 at 1 p.m. for the ribbon cutting of COASTAL980!
X-ALT-DESC;FMTTYPE=text/html:Join us Tuesday\, March 17 at 1 p.m. for the ribbon cutting of COASTAL980!
LOCATION:1016 3rd Avenue\, Conway SC 29526
UID:e.3251.3976
SEQUENCE:3
DTSTAMP:20260422T162158Z
URL:https://business.conwayscchamber.com/events/details/coastal980-ribbon-cutting-3976
END:VEVENT

END:VCALENDAR
