BEGIN:VCALENDAR
VERSION:2.0
PRODID:-//ChamberMaster//Event Calendar 2.0//EN
METHOD:PUBLISH
X-PUBLISHED-TTL:P3D
REFRESH-INTERVAL:P3D
CALSCALE:GREGORIAN
BEGIN:VEVENT
DTSTART:20230821T200000Z
DTEND:20230821T210000Z
X-MICROSOFT-CDO-ALLDAYEVENT:FALSE
SUMMARY:City of Conway | Council Meeting 8/21
DESCRIPTION:Visit the City of Conway website\, here. \n\n\n\nMeetings of Council \n\nRegular meetings will be held on the first and third Monday of each month at 4:00 p.m.\, in the City Council Chambers. All regular and special meetings of the Council shall be open to the public.\n\n\n\nQuorum and Rules of Order \n\nA majority of the council members serving shall constitute a quorum for the conduct of business at any meeting. The mayor or mayor pro tempore shall preside\, except that in absence of both\, the members present shall elect a presiding member.\n\n\n\nVoting Requirements \n\nAll actions of the council shall be by majority vote of members present at a public meeting. Every member of the council present shall vote on every question except when required to refrain from voting by state law. The vote on every question shall be recorded in the council minutes. No member of council may leave the council chamber while in public session without permission of the presiding officer. The minutes of all public meetings of the council shall be a matter of permanent public record. Minutes shall not be considered the official record of a meeting until approved by the council.\n\n\n\nAppearances of Citizens \n\nAny citizen of the municipality shall be entitled to an appearance before the council at any regular meeting concerning any municipal matter\, with the exception of personnel matters. Persons desiring to speak must notify the clerk prior to the beginning of the meeting and must state the purpose of their appearance.\n\n\n\nAgenda \n\nMatters to be considered by the council at a regular meeting shall be placed on a written agenda prepared by the administrator and publicly posted by the clerk by noon on the day preceding the meeting. Other than those matters specified on the agenda\, no other business may be acted upon without majority vote of council.\n\n \n\n\nYour Mayor and Conway City Council:\n\n \nMayor Barbara Blain-Bellamy \n\nCouncil Member Amanda Butler\n\n\n\nCouncil Member Beth Helms \n\n\n\nCouncil Member Alex Hyman \n\n\n\nCouncil Member William Goldfinch IV\n\n\n\nCouncil Member Justin Jordan\, Mayor Pro Tem\n\n\n\nCouncil Member Larry White\nFor more information\, call the City of Conway at (843) 248-1760. \n\n\n\nMailing Address\n\nCity of Conway\n\nPO Box 1075\n\nConway\, SC 29528-1075    \n\n\n\nPhone (843) 248-1760    \n\nFax (843) 248-1769
X-ALT-DESC;FMTTYPE=text/html:<strong style="box-sizing: border-box\; color: rgb(96\, 115\, 102)\; font-family: Roboto\, sans-serif\; font-size: 16px\;">Visit the City of Conway website\, <a href="https://www.cityofconway.com/city_council/index.php">here</a>.&nbsp\;<br />\n<br />\nMeetings of Council</strong><span style="color: rgb(96\, 115\, 102)\; font-family: Roboto\, sans-serif\; font-size: 16px\;">&nbsp\;<br />\nRegular meetings will be held on the first and third Monday of each month at 4:00 p.m.\, in the City Council Chambers. All regular and special meetings of the Council shall be open to the public.</span><br style="box-sizing: border-box\; color: rgb(96\, 115\, 102)\; font-family: Roboto\, sans-serif\; font-size: 16px\;" />\n<br style="box-sizing: border-box\; color: rgb(96\, 115\, 102)\; font-family: Roboto\, sans-serif\; font-size: 16px\;" />\n<strong style="box-sizing: border-box\; color: rgb(96\, 115\, 102)\; font-family: Roboto\, sans-serif\; font-size: 16px\;">Quorum and Rules of Order</strong><span style="color: rgb(96\, 115\, 102)\; font-family: Roboto\, sans-serif\; font-size: 16px\;">&nbsp\;<br />\nA majority of the council members serving shall constitute a quorum for the conduct of business at any meeting. The mayor or mayor pro tempore shall preside\, except that in absence of both\, the members present shall elect a presiding member.</span><br style="box-sizing: border-box\; color: rgb(96\, 115\, 102)\; font-family: Roboto\, sans-serif\; font-size: 16px\;" />\n<br style="box-sizing: border-box\; color: rgb(96\, 115\, 102)\; font-family: Roboto\, sans-serif\; font-size: 16px\;" />\n<strong style="box-sizing: border-box\; color: rgb(96\, 115\, 102)\; font-family: Roboto\, sans-serif\; font-size: 16px\;">Voting Requirements</strong><span style="color: rgb(96\, 115\, 102)\; font-family: Roboto\, sans-serif\; font-size: 16px\;">&nbsp\;<br />\nAll actions of the council shall be by majority vote of members present at a public meeting. Every member of the council present shall vote on every question except when required to refrain from voting by state law. The vote on every question shall be recorded in the council minutes. No member of council may leave the council chamber while in public session without permission of the presiding officer. The minutes of all public meetings of the council shall be a matter of permanent public record. Minutes shall not be considered the official record of a meeting until approved by the council.</span><br style="box-sizing: border-box\; color: rgb(96\, 115\, 102)\; font-family: Roboto\, sans-serif\; font-size: 16px\;" />\n<br style="box-sizing: border-box\; color: rgb(96\, 115\, 102)\; font-family: Roboto\, sans-serif\; font-size: 16px\;" />\n<strong style="box-sizing: border-box\; color: rgb(96\, 115\, 102)\; font-family: Roboto\, sans-serif\; font-size: 16px\;">Appearances of Citizens</strong><span style="color: rgb(96\, 115\, 102)\; font-family: Roboto\, sans-serif\; font-size: 16px\;">&nbsp\;<br />\nAny citizen of the municipality shall be entitled to an appearance before the council at any regular meeting concerning any municipal matter\, with the exception of personnel matters. Persons desiring to speak must notify the clerk prior to the beginning of the meeting and must state the purpose of their appearance.</span><br style="box-sizing: border-box\; color: rgb(96\, 115\, 102)\; font-family: Roboto\, sans-serif\; font-size: 16px\;" />\n<br style="box-sizing: border-box\; color: rgb(96\, 115\, 102)\; font-family: Roboto\, sans-serif\; font-size: 16px\;" />\n<strong style="box-sizing: border-box\; color: rgb(96\, 115\, 102)\; font-family: Roboto\, sans-serif\; font-size: 16px\;">Agenda</strong><span style="color: rgb(96\, 115\, 102)\; font-family: Roboto\, sans-serif\; font-size: 16px\;">&nbsp\;<br />\nMatters to be considered by the council at a regular meeting shall be placed on a written agenda prepared by the administrator and publicly posted by the clerk by noon on the day preceding the meeting. Other than those matters specified on the agenda\, no other business may be acted upon without majority vote of council.</span><br style="box-sizing: border-box\; color: rgb(96\, 115\, 102)\; font-family: Roboto\, sans-serif\; font-size: 16px\;" />\n&nbsp\;\n<div style="box-sizing: border-box\; color: rgb(96\, 115\, 102)\; font-family: Roboto\, sans-serif\; font-size: 16px\;"><br />\nYour Mayor and Conway City Council:<br style="box-sizing: border-box\;" />\n&nbsp\;\n<p style="box-sizing: border-box\; margin: 0px 0px 30px\;">Mayor Barbara Blain-Bellamy&nbsp\;</p>\n\n<p style="box-sizing: border-box\; margin: 0px 0px 30px\;">Council Member Amanda Butler<br style="box-sizing: border-box\;" />\n<br style="box-sizing: border-box\;" />\nCouncil Member Beth Helms&nbsp\;<br style="box-sizing: border-box\;" />\n<br style="box-sizing: border-box\;" />\nCouncil Member Alex Hyman&nbsp\;<br style="box-sizing: border-box\;" />\n<br style="box-sizing: border-box\;" />\nCouncil Member William Goldfinch IV<br style="box-sizing: border-box\;" />\n<br style="box-sizing: border-box\;" />\nCouncil Member Justin Jordan\,<em style="box-sizing: border-box\;">&nbsp\;Mayor Pro Tem</em><br style="box-sizing: border-box\;" />\n<br style="box-sizing: border-box\;" />\nCouncil Member Larry White</p>\nFor more information\, call the City of Conway at (843) 248-1760.&nbsp\;<br />\n<br />\nMailing Address<br style="box-sizing: border-box\;" />\nCity of Conway<br />\nPO Box 1075<br />\nConway\, SC 29528-1075 &nbsp\; &nbsp\;<br />\n<br />\nPhone&nbsp\;(843) 248-1760 &nbsp\; &nbsp\;<br />\nFax&nbsp\;(843) 248-1769</div>\n
LOCATION:City Council Chambers
UID:e.3251.1534
SEQUENCE:3
DTSTAMP:20260424T140436Z
URL:https://business.conwayscchamber.com/events/details/city-of-conway-council-meeting-8-21-1534
END:VEVENT

END:VCALENDAR
