BEGIN:VCALENDAR
VERSION:2.0
PRODID:-//ChamberMaster//Event Calendar 2.0//EN
METHOD:PUBLISH
X-PUBLISHED-TTL:P3D
REFRESH-INTERVAL:P3D
CALSCALE:GREGORIAN
BEGIN:VEVENT
DTSTART;VALUE=DATE:20230804
DTEND;VALUE=DATE:20230805
TRANSP:TRANSPARENT
X-MICROSOFT-CDO-ALLDAYEVENT:TRUE
SUMMARY:City of Conway | Closed
DESCRIPTION:In observance of Labor Day\, the City of Conway will be closed Monday\, September 4.
X-ALT-DESC;FMTTYPE=text/html:In observance of Labor Day\, the City of Conway will be closed Monday\, September 4.
LOCATION:
UID:e.3251.1535
SEQUENCE:3
DTSTAMP:20260424T140207Z
URL:https://business.conwayscchamber.com/events/details/city-of-conway-closed-1535
END:VEVENT

END:VCALENDAR
