BEGIN:VCALENDAR
VERSION:2.0
PRODID:-//ChamberMaster//Event Calendar 2.0//EN
METHOD:PUBLISH
X-PUBLISHED-TTL:P3D
REFRESH-INTERVAL:P3D
CALSCALE:GREGORIAN
BEGIN:VEVENT
DTSTART:20251213T160000Z
DTEND:20251213T210000Z
X-MICROSOFT-CDO-ALLDAYEVENT:FALSE
SUMMARY:Christmas at The Outpost
DESCRIPTION:??? CHRISTMAS AT THE OUTPOST   It's Happening! ??? Get ready for the most magical holiday market at the beach! Join us Saturday\, December 13th\, 2025 from 11 AM   4 PM at The Conway Outpost Marina for a festive day of shopping\, food\, music\, and holiday cheer   all just steps from the Conway Christmas Parade route! ???? This years event is co-hosted by LW Marketplace. ??? Shop from tons of amazing local vendors ?? Enjoy delicious food & sweet treats ?? Find one-of-a-kind gifts and handmade treasures ?? Holiday tunes\, cozy vibes\, and all the Christmas spirit you can handle! ? FREE admission   bring the whole family and make a day of it! ?? The perfect "after the parade" stop   grab a bite\, shop local\, and soak in the holiday fun right here at The Outpost! ?? Location: Conway Outpost Marina ?? Date: Saturday\, December 13th\, 2025 ?? Time: 11 AM   4 PM Let's make this holiday season bigger\, brighter\, and merrier than ever before! ????
X-ALT-DESC;FMTTYPE=text/html:??? CHRISTMAS AT THE OUTPOST &mdash\; It&rsquo\;s Happening! ??? Get ready for the most magical holiday market at the beach! Join us Saturday\, December 13th\, 2025 from 11 AM &ndash\; 4 PM at The Conway Outpost Marina for a festive day of shopping\, food\, music\, and holiday cheer &mdash\; all just steps from the Conway Christmas Parade route! ???? This years event is co-hosted by LW Marketplace. ??? Shop from tons of amazing local vendors ?? Enjoy delicious food &amp\; sweet treats ?? Find one-of-a-kind gifts and handmade treasures ?? Holiday tunes\, cozy vibes\, and all the Christmas spirit you can handle! ? FREE admission &mdash\; bring the whole family and make a day of it! ?? The perfect &ldquo\;after the parade&rdquo\; stop &mdash\; grab a bite\, shop local\, and soak in the holiday fun right here at The Outpost! ?? Location: Conway Outpost Marina ?? Date: Saturday\, December 13th\, 2025 ?? Time: 11 AM &ndash\; 4 PM Let&rsquo\;s make this holiday season bigger\, brighter\, and merrier than ever before! ????
LOCATION:
UID:e.3251.3582
SEQUENCE:3
DTSTAMP:20260422T194430Z
URL:https://business.conwayscchamber.com/events/details/christmas-at-the-outpost-3582
END:VEVENT

END:VCALENDAR
