BEGIN:VCALENDAR
VERSION:2.0
PRODID:-//ChamberMaster//Event Calendar 2.0//EN
METHOD:PUBLISH
X-PUBLISHED-TTL:P3D
REFRESH-INTERVAL:P3D
CALSCALE:GREGORIAN
BEGIN:VEVENT
DTSTART:20251220T140000Z
DTEND:20251220T170000Z
X-MICROSOFT-CDO-ALLDAYEVENT:FALSE
SUMMARY:“Christmas at the Farm”
DESCRIPTION:Experience life on the family farm in Horry County from 1900-1955 at the L.W. Paul Living History Farm! Join us on December 20th from 9 AM until 12 PM to see how the farm family would have prepared for the Christmas season. Visit the farmhouse to see seasonal activities including cooking on the wood burning stove and decorating the Christmas tree. We'll also have activities for children\, Christmas music in the Church\, and a variety of demonstrations throughout the Farm! The L.W. Paul Living History Farm is open Tuesday-Saturday 9 AM-4 PM and teaches the history of the Horry County farm family from 1900-1955. The Farm is free and open to the public and is located at the corner of Hwy 701 North and Harris Shortcut Road in Conway\, SC. For more information\, please contact the L. W. Paul Living History Farm at 843-915-5321 or email the Horry County Museum at hcg.museum@horrycountysc.gov. For a full list of programs and events at the Horry County Museum and L.W. Paul Living History Farm\, visit our website at www.horrycountymuseum.org.
X-ALT-DESC;FMTTYPE=text/html:Experience life on the family farm in Horry County from 1900-1955 at the L.W. Paul Living History Farm! Join us on December 20th from 9 AM until 12 PM to see how the farm family would have prepared for the Christmas season. Visit the farmhouse to see seasonal activities including cooking on the wood burning stove and decorating the Christmas tree. We&rsquo\;ll also have activities for children\, Christmas music in the Church\, and a variety of demonstrations throughout the Farm! The L.W. Paul Living History Farm is open Tuesday-Saturday 9 AM-4 PM and teaches the history of the Horry County farm family from 1900-1955. The Farm is free and open to the public and is located at the corner of Hwy 701 North and Harris Shortcut Road in Conway\, SC. For more information\, please contact the L. W. Paul Living History Farm at 843-915-5321 or email the Horry County Museum at hcg.museum@horrycountysc.gov. For a full list of programs and events at the Horry County Museum and L.W. Paul Living History Farm\, visit our website at www.horrycountymuseum.org.
LOCATION:corner of Hwy 701 North and Harris Shortcut Road Conway\, SC 29526
UID:e.3251.3565
SEQUENCE:3
DTSTAMP:20260422T210541Z
URL:https://business.conwayscchamber.com/events/details/christmas-at-the-farm-12-20-2025-3565
END:VEVENT

END:VCALENDAR
