BEGIN:VCALENDAR
VERSION:2.0
PRODID:-//ChamberMaster//Event Calendar 2.0//EN
METHOD:PUBLISH
X-PUBLISHED-TTL:P3D
REFRESH-INTERVAL:P3D
CALSCALE:GREGORIAN
BEGIN:VEVENT
DTSTART:20230909T230000Z
DTEND:20230910T030000Z
X-MICROSOFT-CDO-ALLDAYEVENT:FALSE
SUMMARY:CCU Football vs. Jacksonville State - Hope Opener!
DESCRIPTION:PACK BROOKS! Support the Chanticleers as they open their season at home on Saturday\, September 9. Kickoff is set for 7 p.m. Get your tickets at goccusports.com/tickets. CCU at the GAME!
X-ALT-DESC;FMTTYPE=text/html:PACK BROOKS! Support the Chanticleers as they open their season at home on Saturday\, September 9. Kickoff is set for 7 p.m. Get your tickets at goccusports.com/tickets. CCU at the GAME!
LOCATION:Brooks Stadium 540 University Blvd. Conway\, SC 29526
UID:e.3251.1804
SEQUENCE:3
DTSTAMP:20260424T170530Z
URL:https://business.conwayscchamber.com/events/details/ccu-football-vs-jacksonville-state-hope-opener-1804
END:VEVENT

END:VCALENDAR
