BEGIN:VCALENDAR
VERSION:2.0
PRODID:-//ChamberMaster//Event Calendar 2.0//EN
METHOD:PUBLISH
X-PUBLISHED-TTL:P3D
REFRESH-INTERVAL:P3D
CALSCALE:GREGORIAN
BEGIN:VEVENT
DTSTART:20180410T150000Z
DTEND:20180410T170000Z
X-MICROSOFT-CDO-ALLDAYEVENT:FALSE
SUMMARY:Carolina Pines Groundbreaking Ceremony
DESCRIPTION:A groundbreaking ceremony event for a new resort built by Sun RV. The resort is called Carolina Pines. There will be food trucks\, a preview of the resort\, and special giveaways.
X-ALT-DESC;FMTTYPE=text/html:A groundbreaking ceremony event for a new resort built by Sun RV. The resort is called Carolina Pines. There will be food trucks\, a preview of the resort\, and special giveaways.
LOCATION:5800 Highway 90\, Conway\, SC 29526
UID:e.3251.42
SEQUENCE:3
DTSTAMP:20260421T094357Z
URL:https://business.conwayscchamber.com/events/details/carolina-pines-groundbreaking-ceremony-42
END:VEVENT

END:VCALENDAR
