BEGIN:VCALENDAR
VERSION:2.0
PRODID:-//ChamberMaster//Event Calendar 2.0//EN
METHOD:PUBLISH
X-PUBLISHED-TTL:P3D
REFRESH-INTERVAL:P3D
CALSCALE:GREGORIAN
BEGIN:VEVENT
DTSTART:20260421T120000Z
DTEND:20260421T183000Z
X-MICROSOFT-CDO-ALLDAYEVENT:FALSE
SUMMARY:Careteam Plus Women's Health Day
DESCRIPTION:Our Women's Health Day event is hosted by Careteam Plus in partnership with the Conway Medical Center Mammography Van\, which will be on-site to provide services.\n\n\n\n\n\n\n\nWe are offering Free Mammograms and Free Pap Smear screenings to support women's preventive health. Just as mammograms are vital for early detection of breast cancer\, Pap smears are equally important for identifying cervical cancer early. Both screenings improve outcomes and save lives!  Appointments are encouraged\, but Walk-Ins are always welcome as space permits.\n\nSave the date and call 843-234-8452 to schedule your appointment or ask any questions about the event. Taking care of your health starts here!
X-ALT-DESC;FMTTYPE=text/html:<div dir="ltr" style="font-family: Aptos\, Aptos_MSFontService\, -apple-system\, Roboto\, Arial\, Helvetica\, sans-serif\; font-size: 12pt\; color: rgb(0\, 0\, 0)\;"><span style="font-size: 12pt\; font-family: Aptos\, Aptos_EmbeddedFont\, Aptos_MSFontService\, Calibri\, Helvetica\, sans-serif\;">Our Women&rsquo\;s Health Day event is hosted by&nbsp\;</span><span style="font-size: 12pt\; font-family: Aptos\, Aptos_EmbeddedFont\, Aptos_MSFontService\, Calibri\, Helvetica\, sans-serif\; font-weight: 700\;">Careteam Plus</span><span style="font-size: 12pt\; font-family: Aptos\, Aptos_EmbeddedFont\, Aptos_MSFontService\, Calibri\, Helvetica\, sans-serif\;">&nbsp\;in partnership with the&nbsp\;</span><span style="font-size: 12pt\; font-family: Aptos\, Aptos_EmbeddedFont\, Aptos_MSFontService\, Calibri\, Helvetica\, sans-serif\; font-weight: 700\;">Conway Medical Center Mammography Van</span><span style="font-size: 12pt\; font-family: Aptos\, Aptos_EmbeddedFont\, Aptos_MSFontService\, Calibri\, Helvetica\, sans-serif\;">\, which will be on-site to provide services.</span></div>\n\n<div id="m_3892902006843487840mail-editor-reference-message-container" style="color: rgb(34\, 34\, 34)\; font-family: Arial\, Helvetica\, sans-serif\; font-size: small\;">\n<div id="m_3892902006843487840mail-editor-reference-message-container">\n<div id="m_3892902006843487840mail-editor-reference-message-container">\n<div id="m_3892902006843487840mail-editor-reference-message-container">\n<div id="m_3892902006843487840mail-editor-reference-message-container">\n<div id="m_3892902006843487840mail-editor-reference-message-container">\n<div dir="ltr" style="line-height: 1.5\; margin: 30px 0px 16px\; font-family: Aptos\, Aptos_EmbeddedFont\, Aptos_MSFontService\, Calibri\, Helvetica\, sans-serif\; font-size: 12pt\; color: rgb(0\, 0\, 0)\;">We are offering&nbsp\;<span style="font-weight: 700\;">Free Mammograms and Free Pap Smear screenings</span>&nbsp\;to support women&rsquo\;s preventive health. Just as mammograms are vital for early detection of breast cancer\, Pap smears are equally important for identifying cervical cancer early. Both screenings improve outcomes and save lives! &nbsp\;<span style="font-weight: 700\;">Appointments are encouraged</span>\, but&nbsp\;<span style="font-weight: 700\;">Walk-Ins are always welcome</span>&nbsp\;as space permits.</div>\n\n<div dir="ltr" style="line-height: 1.5\; margin: 30px 0px 16px\; font-family: Aptos\, Aptos_EmbeddedFont\, Aptos_MSFontService\, Calibri\, Helvetica\, sans-serif\; font-size: 12pt\; color: rgb(0\, 0\, 0)\;"><span style="font-weight: 700\;">Save the date</span>&nbsp\;and call&nbsp\;<span style="font-weight: 700\;">843-234-8452</span>&nbsp\;to schedule your appointment or ask any questions about the event. Taking care of your health starts here!</div>\n</div>\n</div>\n</div>\n</div>\n</div>\n</div>\n
LOCATION:Fresh Market (Parking Lot) 11421-A Ocean Hwy Pawleys Island SC 29585
UID:e.3251.3973
SEQUENCE:3
DTSTAMP:20260422T051529Z
URL:https://business.conwayscchamber.com/events/details/careteam-plus-women-s-health-day-3973
END:VEVENT

END:VCALENDAR
