BEGIN:VCALENDAR
VERSION:2.0
PRODID:-//ChamberMaster//Event Calendar 2.0//EN
METHOD:PUBLISH
X-PUBLISHED-TTL:P3D
REFRESH-INTERVAL:P3D
CALSCALE:GREGORIAN
BEGIN:VEVENT
DTSTART:20250320T150000Z
DTEND:20250320T160000Z
X-MICROSOFT-CDO-ALLDAYEVENT:FALSE
SUMMARY:Business Brunch: The Roadmap to Success Using Technology
DESCRIPTION:"The Roadmap to Success Using Technology"\n\nOur speaker will be John Perry\, Senior Vice President of Sales for Integrity Business Solutions. \n\n \n\nJohn Perry is a dynamic and charismatic sales professional with a lifetime of experience in the copier industry\, having started his career in 2006 alongside his father\, who founded their family business. Currently serving as VP of Sales for Integrity Business Solutions\, John combines his deep industry expertise with a unique approach that blends creativity\, authenticity\, and a passion for building connections. An Eagle Scout with a strong foundation in community service\, he brings leadership\, determination\, and a playful sense of individuality to everything he does. A devoted father of three\, John treasures family life\, whether it's slaying monsters with his son or chasing unicorns with his daughters. Beyond his sales acumen\, he's a BBQ aficionado\, a proud "geek speaker\," and a self-proclaimed wizard at being different.
X-ALT-DESC;FMTTYPE=text/html:<div style="color: rgb(34\, 34\, 34)\; font-family: Arial\, Helvetica\, sans-serif\; font-size: small\;"><strong>&quot\;The Roadmap to Success Using Technology&quot\;</strong><br />\nOur speaker will be John Perry\, Senior Vice President of Sales for Integrity Business Solutions.&nbsp\;</div>\n\n<div style="color: rgb(34\, 34\, 34)\; font-family: Arial\, Helvetica\, sans-serif\; font-size: small\;">&nbsp\;</div>\n\n<div style="color: rgb(34\, 34\, 34)\; font-family: Arial\, Helvetica\, sans-serif\; font-size: small\;">John Perry is a dynamic and charismatic sales professional with a lifetime of experience in the copier industry\, having started his career in 2006 alongside his father\, who founded their family business. Currently serving as VP of Sales for Integrity Business Solutions\, John combines his deep industry expertise with a unique approach that blends creativity\, authenticity\, and a passion for building connections. An Eagle Scout with a strong foundation in community service\, he brings leadership\, determination\, and a playful sense of individuality to everything he does. A devoted father of three\, John treasures family life\, whether it&#39\;s slaying monsters with his son or chasing unicorns with his daughters. Beyond his sales acumen\, he&rsquo\;s a BBQ aficionado\, a proud &quot\;geek speaker\,&quot\; and a self-proclaimed wizard at being different.</div>\n
LOCATION:Conway Chamber of Commerce
UID:e.3251.3261
SEQUENCE:3
DTSTAMP:20260423T103735Z
URL:https://business.conwayscchamber.com/events/details/business-brunch-the-roadmap-to-success-using-technology-3261
END:VEVENT

END:VCALENDAR
