BEGIN:VCALENDAR
VERSION:2.0
PRODID:-//ChamberMaster//Event Calendar 2.0//EN
METHOD:PUBLISH
X-PUBLISHED-TTL:P3D
REFRESH-INTERVAL:P3D
CALSCALE:GREGORIAN
BEGIN:VEVENT
DTSTART:20260312T180000Z
DTEND:20260312T190000Z
X-MICROSOFT-CDO-ALLDAYEVENT:FALSE
SUMMARY:Beginner Crochet Workshop at the Horry County Museum
DESCRIPTION:The Horry County Museum will host a free workshop: Crochet for Beginners\, at 2 PM on Thursday\, March 12th. Participants will learn a few of the basic stitches\, the basics of reading patterns\, and start a granny square to take home. Space is limited\, pre-registration is required. To sign up\, contact Abigail Geedy at 843-915-7864 or email geedy.abigail@horrycountysc.gov. The Horry County Museum is located at 805 Main Street\, Conway\, SC 29526. For more information about programming at the Museum\, visit our website at www.horrycountymuseum.org.
X-ALT-DESC;FMTTYPE=text/html:The Horry County Museum will host a free workshop: Crochet for Beginners\, at 2 PM on Thursday\, March 12th. Participants will learn a few of the basic stitches\, the basics of reading patterns\, and start a granny square to take home. Space is limited\, pre-registration is required. To sign up\, contact Abigail Geedy at 843-915-7864 or email geedy.abigail@horrycountysc.gov. The Horry County Museum is located at 805 Main Street\, Conway\, SC 29526. For more information about programming at the Museum\, visit our website at www.horrycountymuseum.org.
LOCATION:The Horry County Museum
UID:e.3251.3953
SEQUENCE:3
DTSTAMP:20260422T162157Z
URL:https://business.conwayscchamber.com/events/details/beginner-crochet-workshop-at-the-horry-county-museum-3953
END:VEVENT

END:VCALENDAR
