BEGIN:VCALENDAR
VERSION:2.0
PRODID:-//ChamberMaster//Event Calendar 2.0//EN
METHOD:PUBLISH
X-PUBLISHED-TTL:P3D
REFRESH-INTERVAL:P3D
CALSCALE:GREGORIAN
BEGIN:VEVENT
DTSTART:20250709T170000Z
DTEND:20250709T180000Z
X-MICROSOFT-CDO-ALLDAYEVENT:FALSE
SUMMARY:Beach Break: A History of Surfing in South Carolina
DESCRIPTION:The 2025 Horry County Museum Documentary Film Series continues with Beach Break: A History of Surfing in South Carolina\, part of the Carolina Stories Series by SCETV. Relive the life and times of South Carolina surfers as they share their amazing stories of salty days in the Atlantic. Take a look at the industry that has developed from the sport of surfing: the surf shop. What began with surfboards\, a bar of wax and maybe some cheese sandwiches has evolved into a radical\, fiercely competitive\, new game that includes high-tech\, brand-name clothing\, cutting-edge videos and locally made custom surfboards. The film is free to the public and will be shown at 1:00 PM\, Wednesday\, July 9th\, at the Horry County Museum\, located at 805 Main Street in Conway. The Horry County Museum Documentary Film Matinees will continue throughout 2025. For a list of films\, visit our website at www.horrycountymuseum.org. For more information\, call the Horry County Museum at 843-915-5320 or e-mail hcg.museum@horrycountysc.gov.
X-ALT-DESC;FMTTYPE=text/html:The 2025 Horry County Museum Documentary Film Series continues with Beach Break: A History of Surfing in South Carolina\, part of the Carolina Stories Series by SCETV. Relive the life and times of South Carolina surfers as they share their amazing stories of salty days in the Atlantic. Take a look at the industry that has developed from the sport of surfing: the surf shop. What began with surfboards\, a bar of wax and maybe some cheese sandwiches has evolved into a radical\, fiercely competitive\, new game that includes high-tech\, brand-name clothing\, cutting-edge videos and locally made custom surfboards. The film is free to the public and will be shown at 1:00 PM\, Wednesday\, July 9th\, at the Horry County Museum\, located at 805 Main Street in Conway. The Horry County Museum Documentary Film Matinees will continue throughout 2025. For a list of films\, visit our website at www.horrycountymuseum.org. For more information\, call the Horry County Museum at 843-915-5320 or e-mail hcg.museum@horrycountysc.gov.
LOCATION:The Horry County Museum
UID:e.3251.3405
SEQUENCE:3
DTSTAMP:20260423T045037Z
URL:https://business.conwayscchamber.com/events/details/beach-break-a-history-of-surfing-in-south-carolina-3405
END:VEVENT

END:VCALENDAR
