BEGIN:VCALENDAR
VERSION:2.0
PRODID:-//ChamberMaster//Event Calendar 2.0//EN
METHOD:PUBLISH
X-PUBLISHED-TTL:P3D
REFRESH-INTERVAL:P3D
CALSCALE:GREGORIAN
BEGIN:VEVENT
DTSTART:20250313T150000Z
DTEND:20250313T160000Z
X-MICROSOFT-CDO-ALLDAYEVENT:FALSE
SUMMARY:Barbara Cowdright: Things You Can do With an Embroidery Machine
DESCRIPTION:We're celebrating textiles throughout the month of March at the Horry County Museum! Join us March 13th at 11 AM as local quilter Barbara Cowdright shares the variety of things that you can do with an embroidery machine. This program is free to the public. The Horry County Museum is located at 805 Main St.\, Conway\, SC 29526. For more information\, call 843-915-5320 or email hcg.museum@horrycountysc.gov . To view a full list of programs\, visit our website at www.horrycountymuseum.org.
X-ALT-DESC;FMTTYPE=text/html:We&rsquo\;re celebrating textiles throughout the month of March at the Horry County Museum! Join us March 13th at 11 AM as local quilter Barbara Cowdright shares the variety of things that you can do with an embroidery machine. This program is free to the public. The Horry County Museum is located at 805 Main St.\, Conway\, SC 29526. For more information\, call 843-915-5320 or email hcg.museum@horrycountysc.gov . To view a full list of programs\, visit our website at www.horrycountymuseum.org.
LOCATION:Horry County Museum
UID:e.3251.3308
SEQUENCE:3
DTSTAMP:20260423T105705Z
URL:https://business.conwayscchamber.com/events/details/barbara-cowdright-things-you-can-do-with-an-embroidery-machine-3308
END:VEVENT

END:VCALENDAR
