BEGIN:VCALENDAR
VERSION:2.0
PRODID:-//ChamberMaster//Event Calendar 2.0//EN
METHOD:PUBLISH
X-PUBLISHED-TTL:P3D
REFRESH-INTERVAL:P3D
CALSCALE:GREGORIAN
BEGIN:VEVENT
DTSTART:20260527T170000Z
DTEND:20260527T180000Z
X-MICROSOFT-CDO-ALLDAYEVENT:FALSE
SUMMARY:Backstage Pass
DESCRIPTION:The 2026 Horry County Museum Documentary Film Series continues with the SCETV film Backstage Pass. This hour long film goes behind the scenes of some of the biggest shows in Myrtle Beach\, giving a glimpse into the theatrical production process at places such as Legends in Concert\, The Carolina Opry\, The Palace Theatre\, the Alabama Theatre and Medieval Times. The film is free to the public and will be shown at 1:00 PM\, Wednesday\, May 27th\, at the Horry County Museum\, located at 805 Main Street in Conway. The Horry County Museum Documentary Film Matinees will continue throughout 2026. For a list of films\, visit our website at www.horrycountymuseum.org. For more information\, call the Horry County Museum at 843-915-5320 or e-mail hcg.museum@horrycountysc.gov.
X-ALT-DESC;FMTTYPE=text/html:The 2026 Horry County Museum Documentary Film Series continues with the SCETV film Backstage Pass. This hour long film goes behind the scenes of some of the biggest shows in Myrtle Beach\, giving a glimpse into the theatrical production process at places such as Legends in Concert\, The Carolina Opry\, The Palace Theatre\, the Alabama Theatre and Medieval Times. The film is free to the public and will be shown at 1:00 PM\, Wednesday\, May 27th\, at the Horry County Museum\, located at 805 Main Street in Conway. The Horry County Museum Documentary Film Matinees will continue throughout 2026. For a list of films\, visit our website at www.horrycountymuseum.org. For more information\, call the Horry County Museum at 843-915-5320 or e-mail hcg.museum@horrycountysc.gov.
LOCATION:Horry County Museum\, located at 805 Main Street in Conway
UID:e.3251.4015
SEQUENCE:3
DTSTAMP:20260422T145706Z
URL:https://business.conwayscchamber.com/events/details/backstage-pass-4015
END:VEVENT

END:VCALENDAR
