BEGIN:VCALENDAR
VERSION:2.0
PRODID:-//ChamberMaster//Event Calendar 2.0//EN
METHOD:PUBLISH
X-PUBLISHED-TTL:P3D
REFRESH-INTERVAL:P3D
CALSCALE:GREGORIAN
BEGIN:VEVENT
DTSTART:20251206T220000Z
DTEND:20251207T000000Z
X-MICROSOFT-CDO-ALLDAYEVENT:FALSE
SUMMARY:8th Annual Rivertown Regatta
DESCRIPTION:The parade starts at 5:00 PM\, and the parade route begins at Savannah Bluff\, travels past the Conway Marina\, around Trestle\, and back past the Conway Marina.
X-ALT-DESC;FMTTYPE=text/html:The parade starts at 5:00 PM\, and the parade route begins at Savannah Bluff\, travels past the Conway Marina\, around Trestle\, and back past the Conway Marina.
LOCATION:
UID:e.3251.3558
SEQUENCE:3
DTSTAMP:20260422T192949Z
URL:https://business.conwayscchamber.com/events/details/8th-annual-rivertown-regatta-3558
END:VEVENT

END:VCALENDAR
