BEGIN:VCALENDAR
VERSION:2.0
PRODID:-//ChamberMaster//Event Calendar 2.0//EN
METHOD:PUBLISH
X-PUBLISHED-TTL:P3D
REFRESH-INTERVAL:P3D
CALSCALE:GREGORIAN
BEGIN:VEVENT
DTSTART:20251018T170000Z
DTEND:20251018T230000Z
X-MICROSOFT-CDO-ALLDAYEVENT:FALSE
SUMMARY:3rd Annual Youth Performing Arts Festival
DESCRIPTION:Where Young Artists Shine and Fun Takes Center Stage!\n\n\n\nEntering our third year with exciting growth\, we are the 3rd Annual Youth Performing Arts Festival - Sponsored by the City of Conway in partnership with the Main Street theatre - and it's back bigger than ever! This vibrant event will have live performances from local public & private schools\, studios\, and arts organizations. In addition\, karaoke fun\, vendor booths with tons of goods and services geared towards the arts\, interactive arts tent\, food trucks\, and more! Our mission is to keep the arts thriving in Horry County while also boosting visibility for local businesses that support and serve the performing arts community.
X-ALT-DESC;FMTTYPE=text/html:<strong>Where Young Artists Shine and Fun Takes Center Stage!</strong><br />\n<br />\nEntering our third year with exciting growth\, we are the 3rd Annual Youth Performing Arts Festival - Sponsored by the City of Conway in partnership with the Main Street theatre - and it&#39\;s back bigger than ever! This vibrant event will have live performances from local public &amp\; private schools\, studios\, and arts organizations. In addition\, karaoke fun\, vendor booths with tons of goods and services geared towards the arts\, interactive arts tent\, food trucks\, and more! Our mission is to keep the arts thriving in Horry County while also boosting visibility for local businesses that support and serve the performing arts community.<br />\n<br />\n&nbsp\;
LOCATION:Downtown Conway
UID:e.3251.3505
SEQUENCE:3
DTSTAMP:20260422T224704Z
URL:https://business.conwayscchamber.com/events/details/3rd-annual-youth-performing-arts-festival-3505
END:VEVENT

END:VCALENDAR
