BEGIN:VCALENDAR
VERSION:2.0
PRODID:-//ChamberMaster//Event Calendar 2.0//EN
METHOD:PUBLISH
X-PUBLISHED-TTL:P3D
REFRESH-INTERVAL:P3D
CALSCALE:GREGORIAN
BEGIN:VEVENT
DTSTART:20230603T220000Z
DTEND:20230604T020000Z
X-MICROSOFT-CDO-ALLDAYEVENT:FALSE
SUMMARY:3rd Annual Strikeout Stigma Mental Health Awareness Night at Pelicans Stadium
DESCRIPTION:Lighthouse Behavioral Health Hospital for our 3rd Annual Strikeout Stigma Mental Health Awareness Night on Saturday\, June 3\, at 6:03 p.m.\, at the Pelicans Stadium!\n\n\n\nThis year\, all proceeds will benefit Easter Carolina Housing Organization (ECHO).\n\n\n\nECHO's mission is to break the cycles of homelessness experienced by individuals and families in our community. Many individuals struggling with homelessness are also struggling with mental health. \n\n\n\nLighthouse is offering a wide range of sponsorship opportunities.\n\nIf you would like to help those in our community by sponsoring\, please reach out to Wendy\, Director of Business Development\, at wendy.joy@uhsinc.com or call 843-347-8871. We look forward to another fun and successful event aimed at helping those in our community!
X-ALT-DESC;FMTTYPE=text/html:<p><span style="color:black"><span style="font-family:arial\,sans-serif"><span style="font-size:10.0pt">Lighthouse Behavioral Health Hospital for our 3rd Annual Strikeout Stigma Mental Health Awareness Night on Saturday\, June 3\, at 6:03 p.m.\, at the Pelicans Stadium!<br />\n<br />\nThis year\, all proceeds will benefit Easter Carolina Housing Organization (ECHO).<br />\n<br />\nECHO&rsquo\;s mission is to break the cycles of homelessness experienced by individuals and families in our community. Many individuals struggling with homelessness are also struggling with mental health.&nbsp\;<br />\n<br />\nLighthouse is offering a wide range of sponsorship opportunities.</span></span></span></p>\n\n<p><span style="color:black"><span style="font-family:arial\,sans-serif"><span style="font-size:10.0pt">If you would like to help those in our community by sponsoring\, please reach out to Wendy\, Director of Business Development\, at wendy.joy@uhsinc.com or call 843-347-8871. We look forward to another fun and successful event aimed at helping those in our community!</span></span></span></p>\n
LOCATION:1251 21st Ave North Myrtle Beach\, SC 29577
UID:e.3251.1493
SEQUENCE:3
DTSTAMP:20260424T111642Z
URL:https://business.conwayscchamber.com/events/details/3rd-annual-strikeout-stigma-mental-health-awareness-night-at-pelicans-stadium-1493
END:VEVENT

END:VCALENDAR
