BEGIN:VCALENDAR
VERSION:2.0
PRODID:-//ChamberMaster//Event Calendar 2.0//EN
METHOD:PUBLISH
X-PUBLISHED-TTL:P3D
REFRESH-INTERVAL:P3D
CALSCALE:GREGORIAN
BEGIN:VEVENT
DTSTART;VALUE=DATE:20260627
DTEND;VALUE=DATE:20260628
TRANSP:TRANSPARENT
X-MICROSOFT-CDO-ALLDAYEVENT:TRUE
SUMMARY:2026 Conway Riverfest
DESCRIPTION:Since 1980\, Conway has celebrated Red\, White and Blue with live music\, delicious food\, local vendors\, fireworks and kids activities. Attendees enjoy all-day entertainment that's fun for the whole family\, a Business Expo\, Artisans Market\, golf cart parade\, cornhole tournament\, paddle battle river races\, kids zone\, and so much more. Presented by Beverly Homes.\n\n\n\nVisit ConwayRiverfest.com for everything you need to know about our festival!
X-ALT-DESC;FMTTYPE=text/html:<p class="has-text-align-left" style="box-sizing: inherit\; margin: 0px 0px 28px\; padding: 0px\; color: rgb(119\, 120\, 123)\; font-family: Nunito\, sans-serif\; font-size: 20px\;"><span style="color:#000000\;"><span style="font-size:14px\;"><span style="font-family:arial\;">Since 1980\, Conway has celebrated Red\, White and Blue with live music\, delicious food\, local vendors\, fireworks and kids activities. Attendees enjoy all-day entertainment that&rsquo\;s fun for the whole family\, a Business Expo\, Artisans Market\, golf cart parade\, cornhole tournament\, paddle battle river races\, kids zone\, and so much more. Presented by Beverly Homes.</span></span></span><br />\n<br />\n<span style="font-size:14px\;"><span style="font-family:arial\;"><span style="color:#000000\;">Visit&nbsp\;</span><a href="https://conwayriverfest.com/" style="box-sizing: inherit\; background-color: transparent\; color: rgb(10\, 100\, 101)\; transition: color 0.2s ease-in-out\, background-color 0.2s ease-in-out\;"><span style="color:#000000\;">ConwayRiverfest.com</span></a><span style="color:#000000\;">&nbsp\;for everything you need to know about our festival!</span></span></span></p>\n
LOCATION:Downtown Conway\, South Carolina
UID:e.3251.3597
SEQUENCE:3
DTSTAMP:20260422T163920Z
URL:https://business.conwayscchamber.com/events/details/2026-conway-riverfest-3597
END:VEVENT

END:VCALENDAR
